BEGIN:VCALENDAR
VERSION:2.0
PRODID:-//Gartenbauverein Schiltberg e.V. - ECPv6.15.20//NONSGML v1.0//EN
CALSCALE:GREGORIAN
METHOD:PUBLISH
X-WR-CALNAME:Gartenbauverein Schiltberg e.V.
X-ORIGINAL-URL:https://gartenbauverein-schiltberg.de
X-WR-CALDESC:Veranstaltungen für Gartenbauverein Schiltberg e.V.
REFRESH-INTERVAL;VALUE=DURATION:PT1H
X-Robots-Tag:noindex
X-PUBLISHED-TTL:PT1H
BEGIN:VTIMEZONE
TZID:Europe/Berlin
BEGIN:DAYLIGHT
TZOFFSETFROM:+0100
TZOFFSETTO:+0200
TZNAME:CEST
DTSTART:20240331T010000
END:DAYLIGHT
BEGIN:STANDARD
TZOFFSETFROM:+0200
TZOFFSETTO:+0100
TZNAME:CET
DTSTART:20241027T010000
END:STANDARD
BEGIN:DAYLIGHT
TZOFFSETFROM:+0100
TZOFFSETTO:+0200
TZNAME:CEST
DTSTART:20250330T010000
END:DAYLIGHT
BEGIN:STANDARD
TZOFFSETFROM:+0200
TZOFFSETTO:+0100
TZNAME:CET
DTSTART:20251026T010000
END:STANDARD
BEGIN:DAYLIGHT
TZOFFSETFROM:+0100
TZOFFSETTO:+0200
TZNAME:CEST
DTSTART:20260329T010000
END:DAYLIGHT
BEGIN:STANDARD
TZOFFSETFROM:+0200
TZOFFSETTO:+0100
TZNAME:CET
DTSTART:20261025T010000
END:STANDARD
END:VTIMEZONE
BEGIN:VEVENT
DTSTART;TZID=Europe/Berlin:20250308T150000
DTEND;TZID=Europe/Berlin:20250308T163000
DTSTAMP:20260421T113554
CREATED:20250228T204847Z
LAST-MODIFIED:20250305T212203Z
UID:61831-1741446000-1741451400@gartenbauverein-schiltberg.de
SUMMARY:Lasst uns gemeinsam den Frühling ins Haus holen!
DESCRIPTION:In diesem kreativen Workshop bastelst du deinen eigenen\, einzigartigen Frühlingskranz\n– perfekt für deine Eingangstür oder als dekoratives Highlight im Innenbereich. \nWir arbeiten mit einem einfachen Heukranz als Basis und verschönern ihn mit einer Vielzahl\nan wunderschönen Naturmaterialien wie z.B. Osterglocken\, Moos\, Palmkätzchen\, Zweige\, etc.\nZusätzlich hast du die Möglichkeit\, deinen Kranz mit besonderen Deko-Elementen wie\nz.B. Perlhuhnfedern\, Wachteleiern und Dekosteckern zu individualisieren. \nWann?  Samstag\, den 8. März\, von 15:00 bis 16:30 Uhr                                                                                                                    Wo?       Im Vereinsraum des Gartenbauvereins \nPreise:   Mitglieder: 20 € / Nicht-Mitglieder: 24 € (inklusive Material) \nWichtiger Hinweis: maximal 8 Personen\,\nalso schnell anmelden um dir deinen Platz zu sichern! Dieser Kurs ist ausgebucht! \nAnmeldung: Gertraud Wagner : 08259 418 oder                                                                                                                                                     els.gayer@gartenbauverein-schiltberg.de \n 
URL:https://gartenbauverein-schiltberg.de/event/lasst-uns-gemeinsam-den-fruehling-ins-haus-holen/
LOCATION:Vereinsraum\, Obere Ortsstr. 12\, 86576 Schiltberg\, im Rückgebäude des Bürgerhauses
CATEGORIES:Aktionen,Allgemein,Verein
ATTACH;FMTTYPE=image/jpeg:https://gartenbauverein-schiltberg.de/wp-content/uploads/2025/02/osterglocke.jpg
END:VEVENT
END:VCALENDAR